BEGIN:VCALENDAR
VERSION:2.0
PRODID:-//InvisionCommunity Events 4.7.23//EN
METHOD:PUBLISH
CALSCALE:GREGORIAN
REFRESH-INTERVAL:PT15M
X-PUBLISHED-TTL:PT15M
X-WR-CALNAME:At My TV
NAME:At My TV
BEGIN:VTIMEZONE
TZID:Europe/London
TZURL:http://tzurl.org/zoneinfo/Europe/London
X-LIC-LOCATION:Europe/London
BEGIN:DAYLIGHT
TZOFFSETFROM:+0000
TZOFFSETTO:+0100
TZNAME:BST
DTSTART:20150329T020000Z
RRULE:FREQ=YEARLY;BYMONTH=3;BYDAY=-1SU
END:DAYLIGHT
BEGIN:STANDARD
TZOFFSETFROM:+0100
TZOFFSETTO:+0000
TZNAME:GMT
DTSTART:20151025T020000Z
RRULE:FREQ=YEARLY;BYMONTH=10;BYDAY=-1SU
END:STANDARD
END:VTIMEZONE
BEGIN:VEVENT
SUMMARY:The Flash (2014) 1x22 - Rogue Air
DTSTAMP:20150429T075726Z
SEQUENCE:0
UID:33813-2-841ebed20eb198c4569419e99b7bf40a@themidnightzone.com
ORGANIZER;CN="Midnight":midnight@themidnightzone.com
DESCRIPTION:\nAs Wells once again gets the upper hand on the S.T.A.R. La
	bsteam\, Barry realizes he needs to make a big move and reachesout to an o
	ld foe\, Captain Cold\, for help. Joe and Caitlinwarn Barry that Cold can'
	t be trusted. True to form\, Cold hashis own agenda that involves the meta
	-humans trapped in thecontainment cells. As things seem to be going from b
	ad toworse\, The Flash gets reinforcements--Arrow and Firestorm.\n
DTSTART:20150513T000000Z
DTEND:20150513T010000Z
END:VEVENT
END:VCALENDAR
