BEGIN:VCALENDAR
VERSION:2.0
PRODID:-//InvisionCommunity Events 4.7.23//EN
METHOD:PUBLISH
CALSCALE:GREGORIAN
REFRESH-INTERVAL:PT15M
X-PUBLISHED-TTL:PT15M
X-WR-CALNAME:Pogdesign
NAME:Pogdesign
BEGIN:VTIMEZONE
TZID:Europe/London
TZURL:http://tzurl.org/zoneinfo/Europe/London
X-LIC-LOCATION:Europe/London
BEGIN:DAYLIGHT
TZOFFSETFROM:+0000
TZOFFSETTO:+0100
TZNAME:BST
DTSTART:20150329T020000Z
RRULE:FREQ=YEARLY;BYMONTH=3;BYDAY=-1SU
END:DAYLIGHT
BEGIN:STANDARD
TZOFFSETFROM:+0100
TZOFFSETTO:+0000
TZNAME:GMT
DTSTART:20151025T020000Z
RRULE:FREQ=YEARLY;BYMONTH=10;BYDAY=-1SU
END:STANDARD
END:VTIMEZONE
BEGIN:VEVENT
SUMMARY:Young & Hungry 2x8 - Young & Sandwich
DTSTAMP:20150430T154356Z
SEQUENCE:0
UID:33889-3-841ebed20eb198c4569419e99b7bf40a@themidnightzone.com
ORGANIZER;CN="Midnight":midnight@themidnightzone.com
DESCRIPTION:\nTired of Sofia being too picky when it comes to her love l
	ife\,Gabi secretly sets her up with an online dating profile in thehopes o
	f finding her a boyfriend. But when Sofia thinks she'sfound the perfect gu
	y\, Gabi discovers he's hiding a bigsecret. Meanwhile\, Josh decides to go
	 on a dating detox\, andYolanda discovers that her new boyfriend used to b
	e reallyclose with Elliot.\n
DTSTART:20150513T200000Z
DTEND:20150513T203000Z
END:VEVENT
END:VCALENDAR
