BEGIN:VCALENDAR
VERSION:2.0
PRODID:-//InvisionCommunity Events 4.7.23//EN
METHOD:PUBLISH
CALSCALE:GREGORIAN
REFRESH-INTERVAL:PT15M
X-PUBLISHED-TTL:PT15M
X-WR-CALNAME:Pogdesign
NAME:Pogdesign
BEGIN:VTIMEZONE
TZID:Europe/London
TZURL:http://tzurl.org/zoneinfo/Europe/London
X-LIC-LOCATION:Europe/London
BEGIN:DAYLIGHT
TZOFFSETFROM:+0000
TZOFFSETTO:+0100
TZNAME:BST
DTSTART:20150329T020000Z
RRULE:FREQ=YEARLY;BYMONTH=3;BYDAY=-1SU
END:DAYLIGHT
BEGIN:STANDARD
TZOFFSETFROM:+0100
TZOFFSETTO:+0000
TZNAME:GMT
DTSTART:20151025T020000Z
RRULE:FREQ=YEARLY;BYMONTH=10;BYDAY=-1SU
END:STANDARD
END:VTIMEZONE
BEGIN:VEVENT
SUMMARY:The Night Shift 2x14 - Darkest Before Dawn
DTSTAMP:20150505T180500Z
SEQUENCE:0
UID:34221-3-841ebed20eb198c4569419e99b7bf40a@themidnightzone.com
ORGANIZER;CN="Midnight":midnight@themidnightzone.com
DESCRIPTION:TC and Topher return from Afghanistan to find Jordan's life 
	onthe line and San Antonio under fire as two deadly snipersterrorize the c
	ity. TC and Scott unite to care for a comatoseJordan and her unborn baby. 
	Drew and Gwen are caught in a firefight when a SWAT Team corners the two s
	nipers. Meanwhile Dr.Joey Chavez scrubs back in for the night\, and he cal
	ls intoquestion his future with Krista. Ragosa helps Paul make adifficult 
	decision about his future.
DTSTART:20150518T220000Z
DTEND:20150518T230000Z
END:VEVENT
END:VCALENDAR
