BEGIN:VCALENDAR
VERSION:2.0
PRODID:-//InvisionCommunity Events 4.7.23//EN
METHOD:PUBLISH
CALSCALE:GREGORIAN
REFRESH-INTERVAL:PT15M
X-PUBLISHED-TTL:PT15M
X-WR-CALNAME:Pogdesign
NAME:Pogdesign
BEGIN:VTIMEZONE
TZID:Europe/London
TZURL:http://tzurl.org/zoneinfo/Europe/London
X-LIC-LOCATION:Europe/London
BEGIN:DAYLIGHT
TZOFFSETFROM:+0000
TZOFFSETTO:+0100
TZNAME:BST
DTSTART:20150329T020000Z
RRULE:FREQ=YEARLY;BYMONTH=3;BYDAY=-1SU
END:DAYLIGHT
BEGIN:STANDARD
TZOFFSETFROM:+0100
TZOFFSETTO:+0000
TZNAME:GMT
DTSTART:20151025T020000Z
RRULE:FREQ=YEARLY;BYMONTH=10;BYDAY=-1SU
END:STANDARD
END:VTIMEZONE
BEGIN:VEVENT
SUMMARY:Wentworth 3x7 - The Long Game
DTSTAMP:20150505T180500Z
SEQUENCE:0
UID:34226-3-841ebed20eb198c4569419e99b7bf40a@themidnightzone.com
ORGANIZER;CN="Midnight":midnight@themidnightzone.com
DESCRIPTION:Bea struggles to accept that she had a psychotic episode\,de
	spite the CCTV evidence. When her blood is found to havetraces of LSD\, sh
	e realises that her attacker caused themeltdown. She smuggles evidence out
	 of the psych unit\,understanding she'll need to play the long game if she
	's goingto defeat Ferguson. Meanwhile Bridget struggles to force Frankyto 
	accept that she has an emotional block. But when shechallenges Franky to t
	alk about her mother\, she elicits aconfession she wasn't expecting.
DTSTART:20150519T083000Z
DTEND:20150519T093000Z
END:VEVENT
END:VCALENDAR
