BEGIN:VCALENDAR
VERSION:2.0
PRODID:-//InvisionCommunity Events 4.7.23//EN
METHOD:PUBLISH
CALSCALE:GREGORIAN
REFRESH-INTERVAL:PT15M
X-PUBLISHED-TTL:PT15M
X-WR-CALNAME:At My TV
NAME:At My TV
BEGIN:VTIMEZONE
TZID:Europe/London
TZURL:http://tzurl.org/zoneinfo/Europe/London
X-LIC-LOCATION:Europe/London
BEGIN:DAYLIGHT
TZOFFSETFROM:+0000
TZOFFSETTO:+0100
TZNAME:BST
DTSTART:20150329T020000Z
RRULE:FREQ=YEARLY;BYMONTH=3;BYDAY=-1SU
END:DAYLIGHT
BEGIN:STANDARD
TZOFFSETFROM:+0100
TZOFFSETTO:+0000
TZNAME:GMT
DTSTART:20151025T020000Z
RRULE:FREQ=YEARLY;BYMONTH=10;BYDAY=-1SU
END:STANDARD
END:VTIMEZONE
BEGIN:VEVENT
SUMMARY:iZombie 1x10 - Mr. Berserk
DTSTAMP:20150507T082229Z
SEQUENCE:0
UID:34301-2-841ebed20eb198c4569419e99b7bf40a@themidnightzone.com
ORGANIZER;CN="Midnight":midnight@themidnightzone.com
DESCRIPTION:Liv and Clive investigate the murder of a journalist working
	 ona story linking psychotic episodes in a small number ofconsumers to the
	 energy drink Max Rager. Liv goes straight tothe top at Max Rager HQ and q
	uestions the man in charge\,Vaughn Du Clark. Meanwhile\, Ravi tries to hel
	p Major whocontinues to believe he's going crazy.
DTSTART:20150520T010000Z
DTEND:20150520T020000Z
END:VEVENT
END:VCALENDAR
