BEGIN:VCALENDAR
VERSION:2.0
PRODID:-//InvisionCommunity Events 4.7.23//EN
METHOD:PUBLISH
CALSCALE:GREGORIAN
REFRESH-INTERVAL:PT15M
X-PUBLISHED-TTL:PT15M
X-WR-CALNAME:At My TV
NAME:At My TV
BEGIN:VTIMEZONE
TZID:Europe/London
TZURL:http://tzurl.org/zoneinfo/Europe/London
X-LIC-LOCATION:Europe/London
BEGIN:DAYLIGHT
TZOFFSETFROM:+0000
TZOFFSETTO:+0100
TZNAME:BST
DTSTART:20150329T020000Z
RRULE:FREQ=YEARLY;BYMONTH=3;BYDAY=-1SU
END:DAYLIGHT
BEGIN:STANDARD
TZOFFSETFROM:+0100
TZOFFSETTO:+0000
TZNAME:GMT
DTSTART:20151025T020000Z
RRULE:FREQ=YEARLY;BYMONTH=10;BYDAY=-1SU
END:STANDARD
END:VTIMEZONE
BEGIN:VEVENT
SUMMARY:The Odyssey (2014) 1x7 - Soup Sandwich
DTSTAMP:20150507T082229Z
SEQUENCE:0
UID:34309-2-841ebed20eb198c4569419e99b7bf40a@themidnightzone.com
ORGANIZER;CN="Midnight":midnight@themidnightzone.com
DESCRIPTION:Peter breaks into an Societel Mining warehouse to uncover mo
	reevidence on the company's misdeeds but the mission does not goas planned
	. Isabel Rainey comes to Club Cachette to hearOdelle's story but Odelle an
	d Aslam are forced to run\, leavingShakir Khan to fend for himself. Harris
	on and Bob finally makecontact with Yusuf Qasim\, a man who may have answe
	rs to theirquestions.
DTSTART:20150518T020000Z
DTEND:20150518T030000Z
END:VEVENT
END:VCALENDAR
