BEGIN:VCALENDAR
VERSION:2.0
PRODID:-//InvisionCommunity Events 4.7.23//EN
METHOD:PUBLISH
CALSCALE:GREGORIAN
REFRESH-INTERVAL:PT15M
X-PUBLISHED-TTL:PT15M
X-WR-CALNAME:Pogdesign
NAME:Pogdesign
BEGIN:VTIMEZONE
TZID:Europe/London
TZURL:http://tzurl.org/zoneinfo/Europe/London
X-LIC-LOCATION:Europe/London
BEGIN:DAYLIGHT
TZOFFSETFROM:+0000
TZOFFSETTO:+0100
TZNAME:BST
DTSTART:20150329T020000Z
RRULE:FREQ=YEARLY;BYMONTH=3;BYDAY=-1SU
END:DAYLIGHT
BEGIN:STANDARD
TZOFFSETFROM:+0100
TZOFFSETTO:+0000
TZNAME:GMT
DTSTART:20151025T020000Z
RRULE:FREQ=YEARLY;BYMONTH=10;BYDAY=-1SU
END:STANDARD
END:VTIMEZONE
BEGIN:VEVENT
SUMMARY:Bones 10x20 - The Woman in the Whirlpool
DTSTAMP:20150515T122336Z
SEQUENCE:0
UID:34645-3-841ebed20eb198c4569419e99b7bf40a@themidnightzone.com
ORGANIZER;CN="Midnight":midnight@themidnightzone.com
DESCRIPTION:When the body of a well-known cookie jar collector is found 
	ina riverbank\, the Jeffersonian team must submerge themselvesinto the vic
	tim's collector community in order to catch themurderer. Meanwhile\, Booth
	 struggles to come to terms withBrennan's decision that he move out of the
	ir house due to hisgambling addiction and Aubrey has his eye on one of the
	&quot\;squinterns&quot\;.
DTSTART:20150528T200000Z
DTEND:20150528T210000Z
END:VEVENT
END:VCALENDAR
