BEGIN:VCALENDAR
VERSION:2.0
PRODID:-//InvisionCommunity Events 4.7.23//EN
METHOD:PUBLISH
CALSCALE:GREGORIAN
REFRESH-INTERVAL:PT15M
X-PUBLISHED-TTL:PT15M
X-WR-CALNAME:Pogdesign
NAME:Pogdesign
BEGIN:VTIMEZONE
TZID:Europe/London
TZURL:http://tzurl.org/zoneinfo/Europe/London
X-LIC-LOCATION:Europe/London
BEGIN:DAYLIGHT
TZOFFSETFROM:+0000
TZOFFSETTO:+0100
TZNAME:BST
DTSTART:20150329T020000Z
RRULE:FREQ=YEARLY;BYMONTH=3;BYDAY=-1SU
END:DAYLIGHT
BEGIN:STANDARD
TZOFFSETFROM:+0100
TZOFFSETTO:+0000
TZNAME:GMT
DTSTART:20151025T020000Z
RRULE:FREQ=YEARLY;BYMONTH=10;BYDAY=-1SU
END:STANDARD
END:VTIMEZONE
BEGIN:VEVENT
SUMMARY:American Odyssey 1x8 - Kmag Yoyo
DTSTAMP:20150516T095443Z
SEQUENCE:0
UID:34655-3-841ebed20eb198c4569419e99b7bf40a@themidnightzone.com
ORGANIZER;CN="Midnight":midnight@themidnightzone.com
DESCRIPTION:Odelle and Aslam are hit hard by Frank Majors' attack on Sha
	kirKhan. Meanwhile\, a desperate Peter makes a deal with SocietelMining CE
	O Alex Baker\, as his marriage reaches a breakingpoint. Bob gets closer to
	 discovering Ruby's true identity\,though what he discovers might not be e
	nough to stop herrelationship with Harrison. Also\, Suzanne makes a new fr
	iend.
DTSTART:20150524T220000Z
DTEND:20150524T230000Z
END:VEVENT
END:VCALENDAR
