BEGIN:VCALENDAR
VERSION:2.0
PRODID:-//InvisionCommunity Events 4.7.23//EN
METHOD:PUBLISH
CALSCALE:GREGORIAN
REFRESH-INTERVAL:PT15M
X-PUBLISHED-TTL:PT15M
X-WR-CALNAME:Pogdesign
NAME:Pogdesign
BEGIN:VTIMEZONE
TZID:Europe/London
TZURL:http://tzurl.org/zoneinfo/Europe/London
X-LIC-LOCATION:Europe/London
BEGIN:DAYLIGHT
TZOFFSETFROM:+0000
TZOFFSETTO:+0100
TZNAME:BST
DTSTART:20150329T020000Z
RRULE:FREQ=YEARLY;BYMONTH=3;BYDAY=-1SU
END:DAYLIGHT
BEGIN:STANDARD
TZOFFSETFROM:+0100
TZOFFSETTO:+0000
TZNAME:GMT
DTSTART:20151025T020000Z
RRULE:FREQ=YEARLY;BYMONTH=10;BYDAY=-1SU
END:STANDARD
END:VTIMEZONE
BEGIN:VEVENT
SUMMARY:Salem 2x9 - Wages of Sin
DTSTAMP:20150518T101844Z
SEQUENCE:0
UID:34759-3-841ebed20eb198c4569419e99b7bf40a@themidnightzone.com
ORGANIZER;CN="Midnight":midnight@themidnightzone.com
DESCRIPTION:As the &quot:Starry Messenger&quot: comet approaches Earth\,
	heralding the culmination of the Witches' dark plan\, theCountess Marburg 
	makes a long awaited acquaintance with one whoplays a pivotal role in her 
	and the others' cause. Mary andWainwright grow closer\, their mutual affec
	tion heightened byrecently discovered revelations\, but as the pair plans 
	for thenext steps along the journey she has in store for him\, another- di
	spleased with these recent developments - takes mattersinto his own hands.
	 Even as Mary prepares to strike against theCountess\, she receives news t
	hat shakes her to the core. AsCotton tries to reason out information recen
	tly revealed tohim\, the betrayal of a recently made ally may spell his mo
	rtaldoom. Meanwhile\, Anne continues to glean knowledge from herdead fathe
	r's writings\, and a long-brewing feud reaches atipping point\, culminatin
	g in a surprising and potentiallygame-changing disclosure.
DTSTART:20150531T220000Z
DTEND:20150531T230000Z
END:VEVENT
END:VCALENDAR
