BEGIN:VCALENDAR
VERSION:2.0
PRODID:-//InvisionCommunity Events 4.7.23//EN
METHOD:PUBLISH
CALSCALE:GREGORIAN
REFRESH-INTERVAL:PT15M
X-PUBLISHED-TTL:PT15M
X-WR-CALNAME:Pogdesign
NAME:Pogdesign
BEGIN:VTIMEZONE
TZID:Europe/London
TZURL:http://tzurl.org/zoneinfo/Europe/London
X-LIC-LOCATION:Europe/London
BEGIN:DAYLIGHT
TZOFFSETFROM:+0000
TZOFFSETTO:+0100
TZNAME:BST
DTSTART:20150329T020000Z
RRULE:FREQ=YEARLY;BYMONTH=3;BYDAY=-1SU
END:DAYLIGHT
BEGIN:STANDARD
TZOFFSETFROM:+0100
TZOFFSETTO:+0000
TZNAME:GMT
DTSTART:20151025T020000Z
RRULE:FREQ=YEARLY;BYMONTH=10;BYDAY=-1SU
END:STANDARD
END:VTIMEZONE
BEGIN:VEVENT
SUMMARY:Thunderbirds Are Go! 1x9 - Slingshot
DTSTAMP:20150518T101844Z
SEQUENCE:0
UID:34761-3-841ebed20eb198c4569419e99b7bf40a@themidnightzone.com
ORGANIZER;CN="Midnight":midnight@themidnightzone.com
DESCRIPTION:A malfunction at a mining operation sends an asteroid careen
	ingtowards the sun\, endangering crewman Ned Tedford. Alan andKayo deploy 
	Thunderbird 3 for the rescue mission\, but a roguesolar flare knocks out t
	heir sensors. They land near the mine\,and must find a way to alter the as
	teroid's trajectory so thatit slingshots around the sun instead of crashin
	g into it.
DTSTART:20150523T030000Z
DTEND:20150523T033000Z
END:VEVENT
END:VCALENDAR
