BEGIN:VCALENDAR
VERSION:2.0
PRODID:-//InvisionCommunity Events 4.7.23//EN
METHOD:PUBLISH
CALSCALE:GREGORIAN
REFRESH-INTERVAL:PT15M
X-PUBLISHED-TTL:PT15M
X-WR-CALNAME:Pogdesign
NAME:Pogdesign
BEGIN:VTIMEZONE
TZID:Europe/London
TZURL:http://tzurl.org/zoneinfo/Europe/London
X-LIC-LOCATION:Europe/London
BEGIN:DAYLIGHT
TZOFFSETFROM:+0000
TZOFFSETTO:+0100
TZNAME:BST
DTSTART:20150329T020000Z
RRULE:FREQ=YEARLY;BYMONTH=3;BYDAY=-1SU
END:DAYLIGHT
BEGIN:STANDARD
TZOFFSETFROM:+0100
TZOFFSETTO:+0000
TZNAME:GMT
DTSTART:20151025T020000Z
RRULE:FREQ=YEARLY;BYMONTH=10;BYDAY=-1SU
END:STANDARD
END:VTIMEZONE
BEGIN:VEVENT
SUMMARY:Bones 10x21 - The Life in the Light
DTSTAMP:20150523T185336Z
SEQUENCE:0
UID:34935-3-841ebed20eb198c4569419e99b7bf40a@themidnightzone.com
ORGANIZER;CN="Midnight":midnight@themidnightzone.com
DESCRIPTION:When the remains of an ex-con and biker gang member-turned-y
	ogainstructor is found in the aftermath of a forest fire\, theteam must na
	vigate both worlds from the victim's past to findthe killer. Meanwhile\, B
	ooth continues working hard to beathis gambling addiction and regain Brenn
	an's trust\, and Angelaand Hodgins make a big decision that will impact th
	eir futureat the Jeffersonian.
DTSTART:20150604T200000Z
DTEND:20150604T210000Z
END:VEVENT
END:VCALENDAR
