BEGIN:VCALENDAR
VERSION:2.0
PRODID:-//InvisionCommunity Events 4.7.23//EN
METHOD:PUBLISH
CALSCALE:GREGORIAN
REFRESH-INTERVAL:PT15M
X-PUBLISHED-TTL:PT15M
X-WR-CALNAME:Pogdesign
NAME:Pogdesign
BEGIN:VTIMEZONE
TZID:Europe/London
TZURL:http://tzurl.org/zoneinfo/Europe/London
X-LIC-LOCATION:Europe/London
BEGIN:DAYLIGHT
TZOFFSETFROM:+0000
TZOFFSETTO:+0100
TZNAME:BST
DTSTART:20150329T020000Z
RRULE:FREQ=YEARLY;BYMONTH=3;BYDAY=-1SU
END:DAYLIGHT
BEGIN:STANDARD
TZOFFSETFROM:+0100
TZOFFSETTO:+0000
TZNAME:GMT
DTSTART:20151025T020000Z
RRULE:FREQ=YEARLY;BYMONTH=10;BYDAY=-1SU
END:STANDARD
END:VTIMEZONE
BEGIN:VEVENT
SUMMARY:Man Finds Food 1x14 - Magic School Bus
DTSTAMP:20150608T203609Z
SEQUENCE:0
UID:35227-3-841ebed20eb198c4569419e99b7bf40a@themidnightzone.com
ORGANIZER;CN="Midnight":midnight@themidnightzone.com
DESCRIPTION:Adam's first stop in PDX is Burnside Brewing Company\, a loc
	albrewery known for their perfect pairings of homemade beers anddelicious 
	bar food. He's on the lookout for one dish inparticular\, though\, an off 
	menu burger so epic\, it's knownonly as the Ultimate Burger. Giving Adam t
	he inside scoop onthis off menu dish is Burnside chef\, Ted Witte. Startin
	g witha searing of burger atop duck fat\, Ted then seasons amedallion of p
	ork belly in a veal-jerk seasoning reduction andpoaches lobster in melted 
	butter.
DTSTART:20150617T210000Z
DTEND:20150617T213000Z
END:VEVENT
END:VCALENDAR
