BEGIN:VCALENDAR
VERSION:2.0
PRODID:-//InvisionCommunity Events 4.7.23//EN
METHOD:PUBLISH
CALSCALE:GREGORIAN
REFRESH-INTERVAL:PT15M
X-PUBLISHED-TTL:PT15M
X-WR-CALNAME:Pogdesign
NAME:Pogdesign
BEGIN:VTIMEZONE
TZID:Europe/London
TZURL:http://tzurl.org/zoneinfo/Europe/London
X-LIC-LOCATION:Europe/London
BEGIN:DAYLIGHT
TZOFFSETFROM:+0000
TZOFFSETTO:+0100
TZNAME:BST
DTSTART:20150329T020000Z
RRULE:FREQ=YEARLY;BYMONTH=3;BYDAY=-1SU
END:DAYLIGHT
BEGIN:STANDARD
TZOFFSETFROM:+0100
TZOFFSETTO:+0000
TZNAME:GMT
DTSTART:20151025T020000Z
RRULE:FREQ=YEARLY;BYMONTH=10;BYDAY=-1SU
END:STANDARD
END:VTIMEZONE
BEGIN:VEVENT
SUMMARY:Proof 1x1 - Pilot
DTSTAMP:20150608T203610Z
SEQUENCE:0
UID:35277-3-841ebed20eb198c4569419e99b7bf40a@themidnightzone.com
ORGANIZER;CN="Midnight":midnight@themidnightzone.com
DESCRIPTION:Jennifer Beals plays Dr. Carolyn Tyler\, who has suffered th
	erecent\, devastating loss of her teenage son\, the breakup ofher marriage
	 and a growing estrangement from her daughter.Carolyn is persuaded by Ivan
	 Turing (Modine)\, acancer-stricken tech inventor and billionaire to inves
	tigatecases of reincarnation\, near-death experiences\, hauntings andother
	 phenomena\, all of it in the search for evidence thatdeath is not the end
	.
DTSTART:20150616T220000Z
DTEND:20150616T230000Z
END:VEVENT
END:VCALENDAR
