BEGIN:VCALENDAR
VERSION:2.0
PRODID:-//InvisionCommunity Events 4.7.23//EN
METHOD:PUBLISH
CALSCALE:GREGORIAN
REFRESH-INTERVAL:PT15M
X-PUBLISHED-TTL:PT15M
X-WR-CALNAME:Pogdesign
NAME:Pogdesign
BEGIN:VTIMEZONE
TZID:Europe/London
TZURL:http://tzurl.org/zoneinfo/Europe/London
X-LIC-LOCATION:Europe/London
BEGIN:DAYLIGHT
TZOFFSETFROM:+0000
TZOFFSETTO:+0100
TZNAME:BST
DTSTART:20150329T020000Z
RRULE:FREQ=YEARLY;BYMONTH=3;BYDAY=-1SU
END:DAYLIGHT
BEGIN:STANDARD
TZOFFSETFROM:+0100
TZOFFSETTO:+0000
TZNAME:GMT
DTSTART:20151025T020000Z
RRULE:FREQ=YEARLY;BYMONTH=10;BYDAY=-1SU
END:STANDARD
END:VTIMEZONE
BEGIN:VEVENT
SUMMARY:SunTrap 1x3 - The Big Sleep
DTSTAMP:20150608T203610Z
SEQUENCE:0
UID:35309-3-841ebed20eb198c4569419e99b7bf40a@themidnightzone.com
ORGANIZER;CN="Midnight":midnight@themidnightzone.com
DESCRIPTION:It's the island's annual hypnotism convention - Brutus'sfavo
	urite time of the year. After some fun and games in the barwith sleazy hyp
	notist the Great Fernando\, one of the othervisiting hypnotists\, the Fabu
	lous Mark\, arrives asking forWoody and Brutus's help with a hypnotism sta
	ge show gonewrong.Mark's act caused a hypnotised audience member to fleeth
	e venue\, vowing to track down and kill the hypnotist. Markand his wife Ja
	nice are now scared for their lives. Woody goeson the hunt for the missing
	 man\, ending up in jail\,performing his own hypnotism show and on the sta
	ke-out to endall stake-outs\, before finding himself in a midnight showdow
	nbetween some very unfriendly hypnotists.
DTSTART:20150610T174500Z
DTEND:20150610T181500Z
END:VEVENT
END:VCALENDAR
