BEGIN:VCALENDAR
VERSION:2.0
PRODID:-//InvisionCommunity Events 4.7.23//EN
METHOD:PUBLISH
CALSCALE:GREGORIAN
REFRESH-INTERVAL:PT15M
X-PUBLISHED-TTL:PT15M
X-WR-CALNAME:Pogdesign
NAME:Pogdesign
BEGIN:VTIMEZONE
TZID:Europe/London
TZURL:http://tzurl.org/zoneinfo/Europe/London
X-LIC-LOCATION:Europe/London
BEGIN:DAYLIGHT
TZOFFSETFROM:+0000
TZOFFSETTO:+0100
TZNAME:BST
DTSTART:20150329T020000Z
RRULE:FREQ=YEARLY;BYMONTH=3;BYDAY=-1SU
END:DAYLIGHT
BEGIN:STANDARD
TZOFFSETFROM:+0100
TZOFFSETTO:+0000
TZNAME:GMT
DTSTART:20151025T020000Z
RRULE:FREQ=YEARLY;BYMONTH=10;BYDAY=-1SU
END:STANDARD
END:VTIMEZONE
BEGIN:VEVENT
SUMMARY:Wentworth 3x11 - The Living and the Dead
DTSTAMP:20150608T203610Z
SEQUENCE:0
UID:35334-3-841ebed20eb198c4569419e99b7bf40a@themidnightzone.com
ORGANIZER;CN="Midnight":midnight@themidnightzone.com
DESCRIPTION:When Fletch follows Bea's instructions to use Jianna as a me
	ansto unsettle Ferguson\, he unwittingly sets Vera up to take thefall. Ver
	a\, for her part\, is consumed with a desire forrevenge against Lucy for i
	nfecting her with Hep C. Meanwhile\,Bea's manipulations of Fletch result i
	n him finally recoveringhis memory and alerting Will\, who is on the verge
	 of beingarrested for Harry's murder\, to the truth behind Ferguson'smanip
	ulations. As the forces align against Ferguson\, shebegins to unravel\, re
	alising she is in a fight of her life\,professionally and personally.
DTSTART:20150616T083000Z
DTEND:20150616T093000Z
END:VEVENT
END:VCALENDAR
