BEGIN:VCALENDAR
VERSION:2.0
PRODID:-//InvisionCommunity Events 4.7.23//EN
METHOD:PUBLISH
CALSCALE:GREGORIAN
REFRESH-INTERVAL:PT15M
X-PUBLISHED-TTL:PT15M
X-WR-CALNAME:Pogdesign
NAME:Pogdesign
BEGIN:VTIMEZONE
TZID:Europe/London
TZURL:http://tzurl.org/zoneinfo/Europe/London
X-LIC-LOCATION:Europe/London
BEGIN:DAYLIGHT
TZOFFSETFROM:+0000
TZOFFSETTO:+0100
TZNAME:BST
DTSTART:20150329T020000Z
RRULE:FREQ=YEARLY;BYMONTH=3;BYDAY=-1SU
END:DAYLIGHT
BEGIN:STANDARD
TZOFFSETFROM:+0100
TZOFFSETTO:+0000
TZNAME:GMT
DTSTART:20151025T020000Z
RRULE:FREQ=YEARLY;BYMONTH=10;BYDAY=-1SU
END:STANDARD
END:VTIMEZONE
BEGIN:VEVENT
SUMMARY:Your Family Or Mine 1x10 - The Vows
DTSTAMP:20150608T203610Z
SEQUENCE:0
UID:35338-3-841ebed20eb198c4569419e99b7bf40a@themidnightzone.com
ORGANIZER;CN="Midnight":midnight@themidnightzone.com
DESCRIPTION:To mark their 10-year wedding anniversary\, Oliver and Kelli
	are renewing their vows at the Durnin residence\, but Oliver isworried abo
	ut saying his vows. Gil and Jan are bitter thatLouis and Ricky excluded th
	em at their country club duringtheir kids' wedding. Dani and Blake start d
	ating again. AndClaire pesters Shawni about the time she and Jason sleptto
	gether.
DTSTART:20150609T220000Z
DTEND:20150609T223000Z
END:VEVENT
END:VCALENDAR
