BEGIN:VCALENDAR
VERSION:2.0
PRODID:-//InvisionCommunity Events 4.7.23//EN
METHOD:PUBLISH
CALSCALE:GREGORIAN
REFRESH-INTERVAL:PT15M
X-PUBLISHED-TTL:PT15M
X-WR-CALNAME:Pogdesign
NAME:Pogdesign
BEGIN:VTIMEZONE
TZID:Europe/London
TZURL:http://tzurl.org/zoneinfo/Europe/London
X-LIC-LOCATION:Europe/London
BEGIN:DAYLIGHT
TZOFFSETFROM:+0000
TZOFFSETTO:+0100
TZNAME:BST
DTSTART:20150329T020000Z
RRULE:FREQ=YEARLY;BYMONTH=3;BYDAY=-1SU
END:DAYLIGHT
BEGIN:STANDARD
TZOFFSETFROM:+0100
TZOFFSETTO:+0000
TZNAME:GMT
DTSTART:20151025T020000Z
RRULE:FREQ=YEARLY;BYMONTH=10;BYDAY=-1SU
END:STANDARD
END:VTIMEZONE
BEGIN:VEVENT
SUMMARY:Beauty and the Beast 3x3 - Bob & Carol & Vincent & Cat
DTSTAMP:20150612T123154Z
SEQUENCE:0
UID:35725-3-841ebed20eb198c4569419e99b7bf40a@themidnightzone.com
ORGANIZER;CN="Midnight":midnight@themidnightzone.com
DESCRIPTION:When two married agents (Alan Van Sprang and NatashaHenstrid
	ge) from the FBI take over an investigation\, Catherineand Vincent hope th
	ey are seeing a future version of themselvesbut fear their work schedules 
	are jeopardizing theirrelationship. When the two couples bond and team up 
	on thecase\, a mysterious coincidence surfaces that raisessuspicions. JT i
	nvestigates whether he has super powers of hisown while Tess considers a c
	areer move. Meanwhile\, Heatheroffers up an interesting option to make her
	 big sister's life alittle easier.
DTSTART:20150625T200000Z
DTEND:20150625T210000Z
END:VEVENT
END:VCALENDAR
