BEGIN:VCALENDAR
VERSION:2.0
PRODID:-//InvisionCommunity Events 4.7.23//EN
METHOD:PUBLISH
CALSCALE:GREGORIAN
REFRESH-INTERVAL:PT15M
X-PUBLISHED-TTL:PT15M
X-WR-CALNAME:At My TV
NAME:At My TV
BEGIN:VTIMEZONE
TZID:Europe/London
TZURL:http://tzurl.org/zoneinfo/Europe/London
X-LIC-LOCATION:Europe/London
BEGIN:DAYLIGHT
TZOFFSETFROM:+0000
TZOFFSETTO:+0100
TZNAME:BST
DTSTART:20150329T020000Z
RRULE:FREQ=YEARLY;BYMONTH=3;BYDAY=-1SU
END:DAYLIGHT
BEGIN:STANDARD
TZOFFSETFROM:+0100
TZOFFSETTO:+0000
TZNAME:GMT
DTSTART:20151025T020000Z
RRULE:FREQ=YEARLY;BYMONTH=10;BYDAY=-1SU
END:STANDARD
END:VTIMEZONE
BEGIN:VEVENT
SUMMARY:The Odyssey (2014) 1x13 - Real World
DTSTAMP:20150615T103650Z
SEQUENCE:0
UID:35834-2-841ebed20eb198c4569419e99b7bf40a@themidnightzone.com
ORGANIZER;CN="Midnight":midnight@themidnightzone.com
DESCRIPTION:As the world discovers that the truth about Odelle\, she and
	Aslam find refuge in Barcelona with someone from Luc's past.But when Odell
	e finally has a chance to tell her story toreporter Isabel Rainey\, she en
	counters an unavoidableobstacle. Meanwhile\, back in New York\, the truth 
	aboutSocietel Mining's misdeeds sends ripples through Peter's worldand Har
	rison works to expose Osela.
DTSTART:20150629T020000Z
DTEND:20150629T030000Z
END:VEVENT
END:VCALENDAR
