BEGIN:VCALENDAR
VERSION:2.0
PRODID:-//InvisionCommunity Events 4.7.23//EN
METHOD:PUBLISH
CALSCALE:GREGORIAN
REFRESH-INTERVAL:PT15M
X-PUBLISHED-TTL:PT15M
X-WR-CALNAME:Pogdesign
NAME:Pogdesign
BEGIN:VTIMEZONE
TZID:Europe/London
TZURL:http://tzurl.org/zoneinfo/Europe/London
X-LIC-LOCATION:Europe/London
BEGIN:DAYLIGHT
TZOFFSETFROM:+0000
TZOFFSETTO:+0100
TZNAME:BST
DTSTART:20150329T020000Z
RRULE:FREQ=YEARLY;BYMONTH=3;BYDAY=-1SU
END:DAYLIGHT
BEGIN:STANDARD
TZOFFSETFROM:+0100
TZOFFSETTO:+0000
TZNAME:GMT
DTSTART:20151025T020000Z
RRULE:FREQ=YEARLY;BYMONTH=10;BYDAY=-1SU
END:STANDARD
END:VTIMEZONE
BEGIN:VEVENT
SUMMARY:Mistresses (US) 3x4 - Into The Woods
DTSTAMP:20150624T155727Z
SEQUENCE:0
UID:36106-3-841ebed20eb198c4569419e99b7bf40a@themidnightzone.com
ORGANIZER;CN="Midnight":midnight@themidnightzone.com
DESCRIPTION:Joss pushes her new relationship with Harry faster than shes
	hould. A misunderstanding between Karen and Vivian leads to adeepening of 
	their friendship and a surprising act of intimacy.Lucy's sexy headmaster\,
	 Blair\, teaches April a thing or twoabout parenting while on a school cam
	ping trip. Calista findsherself getting pulled back in by Luca\, but just 
	as she letsher guard down it's clear that Luca has ulterior motives.
DTSTART:20150702T220000Z
DTEND:20150702T230000Z
END:VEVENT
END:VCALENDAR
