BEGIN:VCALENDAR
VERSION:2.0
PRODID:-//InvisionCommunity Events 4.7.23//EN
METHOD:PUBLISH
CALSCALE:GREGORIAN
REFRESH-INTERVAL:PT15M
X-PUBLISHED-TTL:PT15M
X-WR-CALNAME:Pogdesign
NAME:Pogdesign
BEGIN:VTIMEZONE
TZID:Europe/London
TZURL:http://tzurl.org/zoneinfo/Europe/London
X-LIC-LOCATION:Europe/London
BEGIN:DAYLIGHT
TZOFFSETFROM:+0000
TZOFFSETTO:+0100
TZNAME:BST
DTSTART:20150329T020000Z
RRULE:FREQ=YEARLY;BYMONTH=3;BYDAY=-1SU
END:DAYLIGHT
BEGIN:STANDARD
TZOFFSETFROM:+0100
TZOFFSETTO:+0000
TZNAME:GMT
DTSTART:20151025T020000Z
RRULE:FREQ=YEARLY;BYMONTH=10;BYDAY=-1SU
END:STANDARD
END:VTIMEZONE
BEGIN:VEVENT
SUMMARY:Royal Pains 7x6 - Secret Asian Men
DTSTAMP:20150624T155727Z
SEQUENCE:0
UID:36130-3-841ebed20eb198c4569419e99b7bf40a@themidnightzone.com
ORGANIZER;CN="Midnight":midnight@themidnightzone.com
DESCRIPTION:Keller calls Hank for help when he suffers an embarrassingme
	dical problem\, but Hank believes Keller's new girlfriend maybe affecting 
	his health in more ways than one. Divya treats agroup of Civil War reenact
	ors who seem to be suffering from adisease more likely to afflict their an
	cestors. And Evanworries he may be in over his head when he gets roped int
	o asecret project with Boris.
DTSTART:20150707T220000Z
DTEND:20150707T230000Z
END:VEVENT
END:VCALENDAR
