BEGIN:VCALENDAR
VERSION:2.0
PRODID:-//InvisionCommunity Events 4.7.23//EN
METHOD:PUBLISH
CALSCALE:GREGORIAN
REFRESH-INTERVAL:PT15M
X-PUBLISHED-TTL:PT15M
X-WR-CALNAME:Pogdesign
NAME:Pogdesign
BEGIN:VTIMEZONE
TZID:Europe/London
TZURL:http://tzurl.org/zoneinfo/Europe/London
X-LIC-LOCATION:Europe/London
BEGIN:DAYLIGHT
TZOFFSETFROM:+0000
TZOFFSETTO:+0100
TZNAME:BST
DTSTART:20150329T020000Z
RRULE:FREQ=YEARLY;BYMONTH=3;BYDAY=-1SU
END:DAYLIGHT
BEGIN:STANDARD
TZOFFSETFROM:+0100
TZOFFSETTO:+0000
TZNAME:GMT
DTSTART:20151025T020000Z
RRULE:FREQ=YEARLY;BYMONTH=10;BYDAY=-1SU
END:STANDARD
END:VTIMEZONE
BEGIN:VEVENT
SUMMARY:Grand Designs 15x1 - Living in the City
DTSTAMP:20150630T144316Z
SEQUENCE:0
UID:36452-3-841ebed20eb198c4569419e99b7bf40a@themidnightzone.com
ORGANIZER;CN="Midnight":midnight@themidnightzone.com
DESCRIPTION:Kevin McCloud presents the first of four special programmesi
	nspired by 15 years of Grand Designs. He begins with a look atthe challeng
	es of self-building in the city\, where space is ata premium and architect
	s have to be at their most ingenious.Kevin uses footage from the best urba
	n builds from the showover the years\, meets pioneers at the forefront of 
	the latestarchitectural thinking and looks at clever innovations thatconti
	nue to transform people's lives to reveal which designswork best and why.
DTSTART:20150709T160000Z
DTEND:20150709T170000Z
END:VEVENT
END:VCALENDAR
