BEGIN:VCALENDAR
VERSION:2.0
PRODID:-//InvisionCommunity Events 4.7.23//EN
METHOD:PUBLISH
CALSCALE:GREGORIAN
REFRESH-INTERVAL:PT15M
X-PUBLISHED-TTL:PT15M
X-WR-CALNAME:Pogdesign
NAME:Pogdesign
BEGIN:VTIMEZONE
TZID:Europe/London
TZURL:http://tzurl.org/zoneinfo/Europe/London
X-LIC-LOCATION:Europe/London
BEGIN:DAYLIGHT
TZOFFSETFROM:+0000
TZOFFSETTO:+0100
TZNAME:BST
DTSTART:20150329T020000Z
RRULE:FREQ=YEARLY;BYMONTH=3;BYDAY=-1SU
END:DAYLIGHT
BEGIN:STANDARD
TZOFFSETFROM:+0100
TZOFFSETTO:+0000
TZNAME:GMT
DTSTART:20151025T020000Z
RRULE:FREQ=YEARLY;BYMONTH=10;BYDAY=-1SU
END:STANDARD
END:VTIMEZONE
BEGIN:VEVENT
SUMMARY:Masters of Sex 3x1 - Parliament of Owls
DTSTAMP:20150630T144316Z
SEQUENCE:0
UID:36458-3-841ebed20eb198c4569419e99b7bf40a@themidnightzone.com
ORGANIZER;CN="Midnight":midnight@themidnightzone.com
DESCRIPTION:At the forefront of the Sexual Revolution\, Masters and John
	sonare about to publish their study\, finally removing the shroudfrom the 
	work that's consumed them for the past decade. As theyface the press for t
	he first time\, they flashback to a summervacation of the year prior\, whe
	re Virginia is faced withparenting struggles\, Bill is finishing work on t
	heir book\,and Libby is pulling herself out from beneath a deepdepression.
DTSTART:20150712T220000Z
DTEND:20150712T230000Z
END:VEVENT
END:VCALENDAR
