BEGIN:VCALENDAR
VERSION:2.0
PRODID:-//InvisionCommunity Events 4.7.23//EN
METHOD:PUBLISH
CALSCALE:GREGORIAN
REFRESH-INTERVAL:PT15M
X-PUBLISHED-TTL:PT15M
X-WR-CALNAME:Pogdesign
NAME:Pogdesign
BEGIN:VTIMEZONE
TZID:Europe/London
TZURL:http://tzurl.org/zoneinfo/Europe/London
X-LIC-LOCATION:Europe/London
BEGIN:DAYLIGHT
TZOFFSETFROM:+0000
TZOFFSETTO:+0100
TZNAME:BST
DTSTART:20150329T020000Z
RRULE:FREQ=YEARLY;BYMONTH=3;BYDAY=-1SU
END:DAYLIGHT
BEGIN:STANDARD
TZOFFSETFROM:+0100
TZOFFSETTO:+0000
TZNAME:GMT
DTSTART:20151025T020000Z
RRULE:FREQ=YEARLY;BYMONTH=10;BYDAY=-1SU
END:STANDARD
END:VTIMEZONE
BEGIN:VEVENT
SUMMARY:Ray Donovan 3x1 - The Kalamazoo
DTSTAMP:20150630T144317Z
SEQUENCE:0
UID:36461-3-841ebed20eb198c4569419e99b7bf40a@themidnightzone.com
ORGANIZER;CN="Midnight":midnight@themidnightzone.com
DESCRIPTION:Ray is adrift from his family\, estranged from Ezra\, and hi
	slatest celebrity client is a nobody with tawdry taste. Butafter he's call
	ed to the funeral of a close friend\, a wealthyfamily enlists Ray to free 
	their kidnapped son\, and he findshimself enmeshed with an entirely new cl
	ass of people.Meanwhile\, a retired Mickey stumbles upon a new enterprise.
	Unforgiven by Ray and rejected by Bridget\, Abby encounters anew friend on
	 the streets of Los Angeles. Running the Fite Clubhas given Bunchy confide
	nce in certain arenas\, but when itcomes to collecting membership dues fro
	m an intimidating troupeof Luchadores\, he loses his nerve.
DTSTART:20150712T210000Z
DTEND:20150712T220000Z
END:VEVENT
END:VCALENDAR
