BEGIN:VCALENDAR
VERSION:2.0
PRODID:-//InvisionCommunity Events 4.7.23//EN
METHOD:PUBLISH
CALSCALE:GREGORIAN
REFRESH-INTERVAL:PT15M
X-PUBLISHED-TTL:PT15M
X-WR-CALNAME:Pogdesign
NAME:Pogdesign
BEGIN:VTIMEZONE
TZID:Europe/London
TZURL:http://tzurl.org/zoneinfo/Europe/London
X-LIC-LOCATION:Europe/London
BEGIN:DAYLIGHT
TZOFFSETFROM:+0000
TZOFFSETTO:+0100
TZNAME:BST
DTSTART:20150329T020000Z
RRULE:FREQ=YEARLY;BYMONTH=3;BYDAY=-1SU
END:DAYLIGHT
BEGIN:STANDARD
TZOFFSETFROM:+0100
TZOFFSETTO:+0000
TZNAME:GMT
DTSTART:20151025T020000Z
RRULE:FREQ=YEARLY;BYMONTH=10;BYDAY=-1SU
END:STANDARD
END:VTIMEZONE
BEGIN:VEVENT
SUMMARY:Girl Meets World 2x10 - Girl Meets the New Teacher
DTSTAMP:20150704T124458Z
SEQUENCE:0
UID:36634-3-841ebed20eb198c4569419e99b7bf40a@themidnightzone.com
ORGANIZER;CN="Midnight":midnight@themidnightzone.com
DESCRIPTION:A new English teacher\, Harper Burgess\, is hired at JohnQui
	ncy Adams middle school\, who has a non-traditional way ofeducating.When s
	he wants to use a comic book as a learningtool\, Principal Yancy is not pl
	eased with her or Cory\, whodefends her creative ways of teaching\, and ca
	lls in an oldfriend\, Superintendent Jonathan Turner\, to resolve thematte
	r.
DTSTART:20150717T203000Z
DTEND:20150717T210000Z
END:VEVENT
END:VCALENDAR
