BEGIN:VCALENDAR
VERSION:2.0
PRODID:-//InvisionCommunity Events 4.7.23//EN
METHOD:PUBLISH
CALSCALE:GREGORIAN
REFRESH-INTERVAL:PT15M
X-PUBLISHED-TTL:PT15M
X-WR-CALNAME:Pogdesign
NAME:Pogdesign
BEGIN:VTIMEZONE
TZID:Europe/London
TZURL:http://tzurl.org/zoneinfo/Europe/London
X-LIC-LOCATION:Europe/London
BEGIN:DAYLIGHT
TZOFFSETFROM:+0000
TZOFFSETTO:+0100
TZNAME:BST
DTSTART:20150329T020000Z
RRULE:FREQ=YEARLY;BYMONTH=3;BYDAY=-1SU
END:DAYLIGHT
BEGIN:STANDARD
TZOFFSETFROM:+0100
TZOFFSETTO:+0000
TZNAME:GMT
DTSTART:20151025T020000Z
RRULE:FREQ=YEARLY;BYMONTH=10;BYDAY=-1SU
END:STANDARD
END:VTIMEZONE
BEGIN:VEVENT
SUMMARY:Baby Daddy 4x18 - Parental Guidance Suggested
DTSTAMP:20150708T122248Z
SEQUENCE:0
UID:36764-3-841ebed20eb198c4569419e99b7bf40a@themidnightzone.com
ORGANIZER;CN="Midnight":midnight@themidnightzone.com
DESCRIPTION:Ben takes Emma to his old pediatrician for a check-up and mu
	stadmit he hasn't had a physical in years. When the doctorinsists Ben has 
	an exam and finds something of concern\, Benhas a bit of a panic attack ab
	out his future and worries aboutwho will take care of Emma. He flashes for
	ward through Emma'slife as she's raised by Bonnie\, Tucker and Danny and i
	shorrified by what he imagines. Ben knows Riley is the bestchoice for Emma
	\, but she has serious doubts about her maternalabilities. Bonnie has lunc
	h with Brad\, mistakenly believingthat he is his twin brother\, Tad. After
	 their talk\, Bonnierealizes she's still in love with Brad and wants him b
	ack. Butwhen Brad reveals his true identity\, Bonnie can't believe he'ssti
	ll so deceitful and never wants to see him again.Meanwhile\, a flash mob y
	ields a very surprising twist.
DTSTART:20150708T203000Z
DTEND:20150708T210000Z
END:VEVENT
END:VCALENDAR
