BEGIN:VCALENDAR
VERSION:2.0
PRODID:-//InvisionCommunity Events 4.7.23//EN
METHOD:PUBLISH
CALSCALE:GREGORIAN
REFRESH-INTERVAL:PT15M
X-PUBLISHED-TTL:PT15M
X-WR-CALNAME:Pogdesign
NAME:Pogdesign
BEGIN:VTIMEZONE
TZID:Europe/London
TZURL:http://tzurl.org/zoneinfo/Europe/London
X-LIC-LOCATION:Europe/London
BEGIN:DAYLIGHT
TZOFFSETFROM:+0000
TZOFFSETTO:+0100
TZNAME:BST
DTSTART:20150329T020000Z
RRULE:FREQ=YEARLY;BYMONTH=3;BYDAY=-1SU
END:DAYLIGHT
BEGIN:STANDARD
TZOFFSETFROM:+0100
TZOFFSETTO:+0000
TZNAME:GMT
DTSTART:20151025T020000Z
RRULE:FREQ=YEARLY;BYMONTH=10;BYDAY=-1SU
END:STANDARD
END:VTIMEZONE
BEGIN:VEVENT
SUMMARY:Wayward Pines 1x10 - Cycle
DTSTAMP:20150712T170646Z
SEQUENCE:0
UID:37004-3-841ebed20eb198c4569419e99b7bf40a@themidnightzone.com
ORGANIZER;CN="Midnight":midnight@themidnightzone.com
DESCRIPTION:After Pilcher decides to turn off the electricity in Wayward
	Pines - with deadly repercussions - Ethan and Kate take theinitiative to m
	ake sure everyone is out of harm's way.Meanwhile\, Nurse Pam confronts Pil
	cher on his decision andtries to convince him to reconsider\, Ethan and Ka
	te plan foran attack and the first generation tries to protect the futureo
	f Wayward Pines by taking matters into their own hands.
DTSTART:20150723T210000Z
DTEND:20150723T220000Z
END:VEVENT
END:VCALENDAR
