BEGIN:VCALENDAR
VERSION:2.0
PRODID:-//InvisionCommunity Events 4.7.23//EN
METHOD:PUBLISH
CALSCALE:GREGORIAN
REFRESH-INTERVAL:PT15M
X-PUBLISHED-TTL:PT15M
X-WR-CALNAME:Pogdesign
NAME:Pogdesign
BEGIN:VTIMEZONE
TZID:Europe/London
TZURL:http://tzurl.org/zoneinfo/Europe/London
X-LIC-LOCATION:Europe/London
BEGIN:DAYLIGHT
TZOFFSETFROM:+0000
TZOFFSETTO:+0100
TZNAME:BST
DTSTART:20150329T020000Z
RRULE:FREQ=YEARLY;BYMONTH=3;BYDAY=-1SU
END:DAYLIGHT
BEGIN:STANDARD
TZOFFSETFROM:+0100
TZOFFSETTO:+0000
TZNAME:GMT
DTSTART:20151025T020000Z
RRULE:FREQ=YEARLY;BYMONTH=10;BYDAY=-1SU
END:STANDARD
END:VTIMEZONE
BEGIN:VEVENT
SUMMARY:Defiance 3x7 - The Beauty of Our Weapons
DTSTAMP:20150714T155539Z
SEQUENCE:0
UID:37073-3-841ebed20eb198c4569419e99b7bf40a@themidnightzone.com
ORGANIZER;CN="Midnight":midnight@themidnightzone.com
DESCRIPTION:A visiting arms dealer changes Defiance's fortunes\, anddivi
	des Amanda\, Nolan and Berlin\; at the same time\, Nolanencounters difficu
	lty recruiting a militia to fight theoncoming Votanis Collective army. Els
	ewhere\, Stahma's presencecauses strife among the mysterious Omec\; and Da
	tak and Alakhave a reckoning.
DTSTART:20150717T200000Z
DTEND:20150717T210000Z
END:VEVENT
END:VCALENDAR
