BEGIN:VCALENDAR
VERSION:2.0
PRODID:-//InvisionCommunity Events 4.7.23//EN
METHOD:PUBLISH
CALSCALE:GREGORIAN
REFRESH-INTERVAL:PT15M
X-PUBLISHED-TTL:PT15M
X-WR-CALNAME:Pogdesign
NAME:Pogdesign
BEGIN:VTIMEZONE
TZID:Europe/London
TZURL:http://tzurl.org/zoneinfo/Europe/London
X-LIC-LOCATION:Europe/London
BEGIN:DAYLIGHT
TZOFFSETFROM:+0000
TZOFFSETTO:+0100
TZNAME:BST
DTSTART:20150329T020000Z
RRULE:FREQ=YEARLY;BYMONTH=3;BYDAY=-1SU
END:DAYLIGHT
BEGIN:STANDARD
TZOFFSETFROM:+0100
TZOFFSETTO:+0000
TZNAME:GMT
DTSTART:20151025T020000Z
RRULE:FREQ=YEARLY;BYMONTH=10;BYDAY=-1SU
END:STANDARD
END:VTIMEZONE
BEGIN:VEVENT
SUMMARY:Pretty Little Liars 6x9 - Last Dance
DTSTAMP:20150722T150246Z
SEQUENCE:0
UID:37444-3-841ebed20eb198c4569419e99b7bf40a@themidnightzone.com
ORGANIZER;CN="Midnight":midnight@themidnightzone.com
DESCRIPTION:It is prom time at Rosewood High School\, except for Alison\
	,Aria\, Emily\, Hanna and Spencer who have been banned due to&quot\;securi
	ty&quot\; concerns. As the girls see this as thefinal humiliating blow to 
	their high school careers\, thegirls' mothers try to make the best of a ba
	d situation byoffering a home prom in Spencer's barn. At first reluctant\,
	the PLLs agree and try to make the best out of a bad situation.But one to 
	never miss a formal\, Charles has other plans instore to make this a night
	 they will never forget. Meanwhile\,Veronica\, Pam\, Ashley and Ella use p
	rom night to touch baseon everything that has happened to their daughters.
DTSTART:20150804T200000Z
DTEND:20150804T210000Z
END:VEVENT
END:VCALENDAR
