BEGIN:VCALENDAR
VERSION:2.0
PRODID:-//InvisionCommunity Events 4.7.23//EN
METHOD:PUBLISH
CALSCALE:GREGORIAN
REFRESH-INTERVAL:PT15M
X-PUBLISHED-TTL:PT15M
X-WR-CALNAME:Pogdesign
NAME:Pogdesign
BEGIN:VTIMEZONE
TZID:Europe/London
TZURL:http://tzurl.org/zoneinfo/Europe/London
X-LIC-LOCATION:Europe/London
BEGIN:DAYLIGHT
TZOFFSETFROM:+0000
TZOFFSETTO:+0100
TZNAME:BST
DTSTART:20150329T020000Z
RRULE:FREQ=YEARLY;BYMONTH=3;BYDAY=-1SU
END:DAYLIGHT
BEGIN:STANDARD
TZOFFSETFROM:+0100
TZOFFSETTO:+0000
TZNAME:GMT
DTSTART:20151025T020000Z
RRULE:FREQ=YEARLY;BYMONTH=10;BYDAY=-1SU
END:STANDARD
END:VTIMEZONE
BEGIN:VEVENT
SUMMARY:Tyrant 2x9 - Inside Men and Outside Women
DTSTAMP:20150729T172258Z
SEQUENCE:0
UID:37744-3-841ebed20eb198c4569419e99b7bf40a@themidnightzone.com
ORGANIZER;CN="Midnight":midnight@themidnightzone.com
DESCRIPTION:Increasingly suspicious of those close to him\, Jamal believ
	esKhalil is the only person he can trust. Deciding he should nolonger hide
	 the truth\, Barry reveals to Molly that he's alive.Hoping to lift Nusrat'
	s depression\, Ahmed asks Nusrat to runaway with him. Skeptical of Khalil'
	s tactical luck\, Ihabzeroes in on a traitor in the Caliphate.
DTSTART:20150811T220000Z
DTEND:20150811T230000Z
END:VEVENT
END:VCALENDAR
