BEGIN:VCALENDAR
VERSION:2.0
PRODID:-//InvisionCommunity Events 4.7.23//EN
METHOD:PUBLISH
CALSCALE:GREGORIAN
REFRESH-INTERVAL:PT15M
X-PUBLISHED-TTL:PT15M
X-WR-CALNAME:Pogdesign
NAME:Pogdesign
BEGIN:VTIMEZONE
TZID:Europe/London
TZURL:http://tzurl.org/zoneinfo/Europe/London
X-LIC-LOCATION:Europe/London
BEGIN:DAYLIGHT
TZOFFSETFROM:+0000
TZOFFSETTO:+0100
TZNAME:BST
DTSTART:20150329T020000Z
RRULE:FREQ=YEARLY;BYMONTH=3;BYDAY=-1SU
END:DAYLIGHT
BEGIN:STANDARD
TZOFFSETFROM:+0100
TZOFFSETTO:+0000
TZNAME:GMT
DTSTART:20151025T020000Z
RRULE:FREQ=YEARLY;BYMONTH=10;BYDAY=-1SU
END:STANDARD
END:VTIMEZONE
BEGIN:VEVENT
SUMMARY:Zoo 1x7 - Sleuths
DTSTAMP:20150729T172258Z
SEQUENCE:0
UID:37748-3-841ebed20eb198c4569419e99b7bf40a@themidnightzone.com
ORGANIZER;CN="Midnight":midnight@themidnightzone.com
DESCRIPTION:The team travels to Paris to search for a group of bears tha
	twere being studied for migration habits when their trackersmysteriously w
	ent offline. While investigating the strangeoccurrence\, Chloe must work w
	ith and ultimately confront herex-fiancé\, a civil engineer\, who is help
	ing city officialsfind the missing bears. Meanwhile\, with Jamie accused o
	fmurder\, the team makes a daring plan to hack into theReiden-Global mainf
	rame\, and Mitch makes a shocking discoveryabout the next evolutionary ste
	p of the animals.
DTSTART:20150811T210000Z
DTEND:20150811T220000Z
END:VEVENT
END:VCALENDAR
