BEGIN:VCALENDAR
VERSION:2.0
PRODID:-//InvisionCommunity Events 4.7.23//EN
METHOD:PUBLISH
CALSCALE:GREGORIAN
REFRESH-INTERVAL:PT15M
X-PUBLISHED-TTL:PT15M
X-WR-CALNAME:Pogdesign
NAME:Pogdesign
BEGIN:VTIMEZONE
TZID:Europe/London
TZURL:http://tzurl.org/zoneinfo/Europe/London
X-LIC-LOCATION:Europe/London
BEGIN:DAYLIGHT
TZOFFSETFROM:+0000
TZOFFSETTO:+0100
TZNAME:BST
DTSTART:20150329T020000Z
RRULE:FREQ=YEARLY;BYMONTH=3;BYDAY=-1SU
END:DAYLIGHT
BEGIN:STANDARD
TZOFFSETFROM:+0100
TZOFFSETTO:+0000
TZNAME:GMT
DTSTART:20151025T020000Z
RRULE:FREQ=YEARLY;BYMONTH=10;BYDAY=-1SU
END:STANDARD
END:VTIMEZONE
BEGIN:VEVENT
SUMMARY:Hannibal 3x12 - The Number of the Beast Is 666
DTSTAMP:20150809T161301Z
SEQUENCE:0
UID:38206-3-841ebed20eb198c4569419e99b7bf40a@themidnightzone.com
ORGANIZER;CN="Midnight":midnight@themidnightzone.com
DESCRIPTION:Will Graham and the FBI enlist the expertise of Dr. Fredrick
	Chilton in the hopes of luring Francis Dolarhyde into anambush\, using Fre
	ddie Lounds as their mouthpiece. As Will'sempathy for Dolarhyde begins to 
	affect his fragile psyche\,Bedelia Du Maurier warns that the killer Will s
	hould be mostconcerned about at the moment is himself. Meanwhile\, Dolarhy
	desenses that the FBI is closing in and launches a horrifyingendgame.
DTSTART:20150822T220000Z
DTEND:20150822T230000Z
END:VEVENT
END:VCALENDAR
