BEGIN:VCALENDAR
VERSION:2.0
PRODID:-//InvisionCommunity Events 4.7.23//EN
METHOD:PUBLISH
CALSCALE:GREGORIAN
REFRESH-INTERVAL:PT15M
X-PUBLISHED-TTL:PT15M
X-WR-CALNAME:Pogdesign
NAME:Pogdesign
BEGIN:VTIMEZONE
TZID:Europe/London
TZURL:http://tzurl.org/zoneinfo/Europe/London
X-LIC-LOCATION:Europe/London
BEGIN:DAYLIGHT
TZOFFSETFROM:+0000
TZOFFSETTO:+0100
TZNAME:BST
DTSTART:20150329T020000Z
RRULE:FREQ=YEARLY;BYMONTH=3;BYDAY=-1SU
END:DAYLIGHT
BEGIN:STANDARD
TZOFFSETFROM:+0100
TZOFFSETTO:+0000
TZNAME:GMT
DTSTART:20151025T020000Z
RRULE:FREQ=YEARLY;BYMONTH=10;BYDAY=-1SU
END:STANDARD
END:VTIMEZONE
BEGIN:VEVENT
SUMMARY:Empire 2x1 - The Devils Are Here
DTSTAMP:20150912T132156Z
SEQUENCE:0
UID:39539-3-841ebed20eb198c4569419e99b7bf40a@themidnightzone.com
ORGANIZER;CN="Midnight":midnight@themidnightzone.com
DESCRIPTION:Three months after the shocking arrest and incarceration ofE
	mpire Entertainment head Lucious Lyon. Still in federallockup\, Lucious is
	 trying to run Empire from inside\, while aheadline-grabbing state prosecu
	tor hangs her politicalambitions on bringing him down - no matter what it 
	takes.Meanwhile\, Cookie stages a star-studded #FreeLucious concertin his 
	support\, while scheming with Andre\, Hakeem\, Anika andthe business savvy
	 Mimi Whiteman to finalize the hostiletakeover of Empire.
DTSTART:20150923T210000Z
DTEND:20150923T220000Z
END:VEVENT
END:VCALENDAR
