BEGIN:VCALENDAR
VERSION:2.0
PRODID:-//InvisionCommunity Events 4.7.23//EN
METHOD:PUBLISH
CALSCALE:GREGORIAN
REFRESH-INTERVAL:PT15M
X-PUBLISHED-TTL:PT15M
X-WR-CALNAME:Pogdesign
NAME:Pogdesign
BEGIN:VTIMEZONE
TZID:Europe/London
TZURL:http://tzurl.org/zoneinfo/Europe/London
X-LIC-LOCATION:Europe/London
BEGIN:DAYLIGHT
TZOFFSETFROM:+0000
TZOFFSETTO:+0100
TZNAME:BST
DTSTART:20150329T020000Z
RRULE:FREQ=YEARLY;BYMONTH=3;BYDAY=-1SU
END:DAYLIGHT
BEGIN:STANDARD
TZOFFSETFROM:+0100
TZOFFSETTO:+0000
TZNAME:GMT
DTSTART:20151025T020000Z
RRULE:FREQ=YEARLY;BYMONTH=10;BYDAY=-1SU
END:STANDARD
END:VTIMEZONE
BEGIN:VEVENT
SUMMARY:Greys Anatomy 12x1 - Sledgehammer
DTSTAMP:20150912T132156Z
SEQUENCE:0
UID:39543-3-841ebed20eb198c4569419e99b7bf40a@themidnightzone.com
ORGANIZER;CN="Midnight":midnight@themidnightzone.com
DESCRIPTION:Seattle Grace Hospital springs into action to save the lives
	 oftwo young girls whose powerful story will force some of thedoctors to r
	evisit the effects of bullying on their own pasts.Meanwhile\, Meredith mus
	t adjust to changes at home with hernew roommates while Bailey continues t
	o fight for the Chief ofSurgery position and Jackson prepares for April's 
	return toSeattle.
DTSTART:20150924T200000Z
DTEND:20150924T210000Z
END:VEVENT
END:VCALENDAR
