BEGIN:VCALENDAR
VERSION:2.0
PRODID:-//InvisionCommunity Events 4.7.23//EN
METHOD:PUBLISH
CALSCALE:GREGORIAN
REFRESH-INTERVAL:PT15M
X-PUBLISHED-TTL:PT15M
X-WR-CALNAME:Pogdesign
NAME:Pogdesign
BEGIN:VTIMEZONE
TZID:Europe/London
TZURL:http://tzurl.org/zoneinfo/Europe/London
X-LIC-LOCATION:Europe/London
BEGIN:DAYLIGHT
TZOFFSETFROM:+0000
TZOFFSETTO:+0100
TZNAME:BST
DTSTART:20150329T020000Z
RRULE:FREQ=YEARLY;BYMONTH=3;BYDAY=-1SU
END:DAYLIGHT
BEGIN:STANDARD
TZOFFSETFROM:+0100
TZOFFSETTO:+0000
TZNAME:GMT
DTSTART:20151025T020000Z
RRULE:FREQ=YEARLY;BYMONTH=10;BYDAY=-1SU
END:STANDARD
END:VTIMEZONE
BEGIN:VEVENT
SUMMARY:Heroes Reborn 1x2 - Odessa
DTSTAMP:20150912T132156Z
SEQUENCE:0
UID:39546-3-841ebed20eb198c4569419e99b7bf40a@themidnightzone.com
ORGANIZER;CN="Midnight":midnight@themidnightzone.com
DESCRIPTION:Noah Bennet has taken measures to put his old life behind hi
	mand start over\, until he comes face to face with QuentinFrady\, a conspi
	racy theorist out to uncover the truth behindthe Odessa tragedy. Elsewhere
	\, some are discovering theirnewfound skills. Awkward teen Tommy just want
	s to be normal andwin the girl of his dreams\, Emily\, but normalcy is vir
	tuallyimpossible after learning of a new ability that terrifies him.Coming
	 from a very sheltered upbringing\, a bold and etherealteenager\, Malina\,
	 has been told she is destined forgreatness. In Tokyo\, a quiet and unique
	 young woman\, Miko\,is trying to track down her missing father while hidi
	ng anextraordinary secret that will make her a force to be reckonedwith. I
	n Los Angeles\, a different type of hero is emergingthrough former soldier
	 Carlos. For better or for worse\, someare fated to cross paths with assor
	ted heroes of the past andtogether their ultimate destiny is nothing less 
	than saving theworld and mankind.
DTSTART:20150924T210000Z
DTEND:20150924T220000Z
END:VEVENT
END:VCALENDAR
