BEGIN:VCALENDAR
VERSION:2.0
PRODID:-//InvisionCommunity Events 4.7.23//EN
METHOD:PUBLISH
CALSCALE:GREGORIAN
REFRESH-INTERVAL:PT15M
X-PUBLISHED-TTL:PT15M
X-WR-CALNAME:Pogdesign
NAME:Pogdesign
BEGIN:VTIMEZONE
TZID:Europe/London
TZURL:http://tzurl.org/zoneinfo/Europe/London
X-LIC-LOCATION:Europe/London
BEGIN:DAYLIGHT
TZOFFSETFROM:+0000
TZOFFSETTO:+0100
TZNAME:BST
DTSTART:20150329T020000Z
RRULE:FREQ=YEARLY;BYMONTH=3;BYDAY=-1SU
END:DAYLIGHT
BEGIN:STANDARD
TZOFFSETFROM:+0100
TZOFFSETTO:+0000
TZNAME:GMT
DTSTART:20151025T020000Z
RRULE:FREQ=YEARLY;BYMONTH=10;BYDAY=-1SU
END:STANDARD
END:VTIMEZONE
BEGIN:VEVENT
SUMMARY:Law & Order: SVU 17x1 - Criminal Pathology
DTSTAMP:20150912T132156Z
SEQUENCE:0
UID:39564-3-841ebed20eb198c4569419e99b7bf40a@themidnightzone.com
ORGANIZER;CN="Midnight":midnight@themidnightzone.com
DESCRIPTION:The SVU is called to a familiar crime scene - the beach wher
	eserial killer Gregory Yates buried his many victims. Whenanother body was
	hes ashore\, Detective Rollins tries to coaxhim into confessing\, but the 
	surprising information heprovides sends shockwaves through the police depa
	rtment. As thecase goes to court\, Barba faces off against two hotshotdefe
	nse attorneys in a trial that leads to blackmail\, anincriminating confess
	ion\, a new victim and a fugitive suspect.
DTSTART:20150923T210000Z
DTEND:20150923T220000Z
END:VEVENT
END:VCALENDAR
