BEGIN:VCALENDAR
VERSION:2.0
PRODID:-//InvisionCommunity Events 4.7.23//EN
METHOD:PUBLISH
CALSCALE:GREGORIAN
REFRESH-INTERVAL:PT15M
X-PUBLISHED-TTL:PT15M
X-WR-CALNAME:Pogdesign
NAME:Pogdesign
BEGIN:VTIMEZONE
TZID:Europe/London
TZURL:http://tzurl.org/zoneinfo/Europe/London
X-LIC-LOCATION:Europe/London
BEGIN:DAYLIGHT
TZOFFSETFROM:+0000
TZOFFSETTO:+0100
TZNAME:BST
DTSTART:20150329T020000Z
RRULE:FREQ=YEARLY;BYMONTH=3;BYDAY=-1SU
END:DAYLIGHT
BEGIN:STANDARD
TZOFFSETFROM:+0100
TZOFFSETTO:+0000
TZNAME:GMT
DTSTART:20151025T020000Z
RRULE:FREQ=YEARLY;BYMONTH=10;BYDAY=-1SU
END:STANDARD
END:VTIMEZONE
BEGIN:VEVENT
SUMMARY:Ancient Aliens 8x9 - The Alien Wars
DTSTAMP:20150916T165903Z
SEQUENCE:0
UID:39708-3-841ebed20eb198c4569419e99b7bf40a@themidnightzone.com
ORGANIZER;CN="Midnight":midnight@themidnightzone.com
DESCRIPTION:On March 19th\, 2002\, Gary McKinnon was arrested for hackin
	ginto 97 Pentagon and NASA computers over a 13-month period\, inwhat autho
	rities call the &quot\;biggest military computer hackof all time&quot\;. M
	cKinnon claimed that he found evidence ofa secret American space fleet\, b
	y way of a list of dozens of&quot\;non-terrestrial officers&quot\; and the
	ir assignedspacecraft\, replete with USSS (United States Space Ship)monike
	rs. Might the United States military really have a secretspace program? An
	d if so\, are we preparing for a space-basedwar with other nations... or o
	ther species? Ancient Astronauttheorists suggest that there are numerous f
	actions of alienraces with competing agendas visiting Earth\, and that the
	re isevidence they have been in conflict with each other forthousands of y
	ears. According to these theorists\, there isevidence that these wars actu
	ally took place here on Earth inthe distant past - not between gods\, but 
	betweenextraterrestrial visitors.
DTSTART:20151002T210000Z
DTEND:20151002T220000Z
END:VEVENT
END:VCALENDAR
