BEGIN:VCALENDAR
VERSION:2.0
PRODID:-//InvisionCommunity Events 4.7.23//EN
METHOD:PUBLISH
CALSCALE:GREGORIAN
REFRESH-INTERVAL:PT15M
X-PUBLISHED-TTL:PT15M
X-WR-CALNAME:Pogdesign
NAME:Pogdesign
BEGIN:VTIMEZONE
TZID:Europe/London
TZURL:http://tzurl.org/zoneinfo/Europe/London
X-LIC-LOCATION:Europe/London
BEGIN:DAYLIGHT
TZOFFSETFROM:+0000
TZOFFSETTO:+0100
TZNAME:BST
DTSTART:20150329T020000Z
RRULE:FREQ=YEARLY;BYMONTH=3;BYDAY=-1SU
END:DAYLIGHT
BEGIN:STANDARD
TZOFFSETFROM:+0100
TZOFFSETTO:+0000
TZNAME:GMT
DTSTART:20151025T020000Z
RRULE:FREQ=YEARLY;BYMONTH=10;BYDAY=-1SU
END:STANDARD
END:VTIMEZONE
BEGIN:VEVENT
SUMMARY:Grandfathered 1x1 - Pilot
DTSTAMP:20150916T165904Z
SEQUENCE:0
UID:39718-3-841ebed20eb198c4569419e99b7bf40a@themidnightzone.com
ORGANIZER;CN="Midnight":midnight@themidnightzone.com
DESCRIPTION:Successful restaurateur and man-about-town Jimmy Martino isu
	sed to being the most suave\, most handsome and most singleperson in the r
	oom. But everything changes with the surpriseappearance of Jimmy's adult s
	on\, Gerald\, and his babydaughter\, Edie. Now Jimmy has to unlearn a life
	time ofblissful selfishness and grapple with the fact that he wentstraight
	 from single to grandfather in six seconds flat.
DTSTART:20150929T200000Z
DTEND:20150929T203000Z
END:VEVENT
END:VCALENDAR
