BEGIN:VCALENDAR
VERSION:2.0
PRODID:-//InvisionCommunity Events 4.7.23//EN
METHOD:PUBLISH
CALSCALE:GREGORIAN
REFRESH-INTERVAL:PT15M
X-PUBLISHED-TTL:PT15M
X-WR-CALNAME:Pogdesign
NAME:Pogdesign
BEGIN:VTIMEZONE
TZID:Europe/London
TZURL:http://tzurl.org/zoneinfo/Europe/London
X-LIC-LOCATION:Europe/London
BEGIN:DAYLIGHT
TZOFFSETFROM:+0000
TZOFFSETTO:+0100
TZNAME:BST
DTSTART:20150329T020000Z
RRULE:FREQ=YEARLY;BYMONTH=3;BYDAY=-1SU
END:DAYLIGHT
BEGIN:STANDARD
TZOFFSETFROM:+0100
TZOFFSETTO:+0000
TZNAME:GMT
DTSTART:20151025T020000Z
RRULE:FREQ=YEARLY;BYMONTH=10;BYDAY=-1SU
END:STANDARD
END:VTIMEZONE
BEGIN:VEVENT
SUMMARY:Shark Tank 7x2 - October 2\, 2015
DTSTAMP:20150919T120838Z
SEQUENCE:0
UID:39803-3-841ebed20eb198c4569419e99b7bf40a@themidnightzone.com
ORGANIZER;CN="Midnight":midnight@themidnightzone.com
DESCRIPTION:A recent college graduate has a twist on the traditionalhumm
	us\; a passionate aesthetician pitches her eyelashextensions business\; tw
	o friends believe their edible cups area delicious alternative to a dispos
	able version\; and twobrothers donned tuxedos pitching their solution to t
	heforgotten computer password. Also\, an update on The Red DressBoutique\,
	 in which Mark Cuban invested during Season 6.
DTSTART:20151002T210000Z
DTEND:20151002T220000Z
END:VEVENT
END:VCALENDAR
