BEGIN:VCALENDAR
VERSION:2.0
PRODID:-//InvisionCommunity Events 4.7.23//EN
METHOD:PUBLISH
CALSCALE:GREGORIAN
REFRESH-INTERVAL:PT15M
X-PUBLISHED-TTL:PT15M
X-WR-CALNAME:At My TV
NAME:At My TV
BEGIN:VTIMEZONE
TZID:Europe/London
TZURL:http://tzurl.org/zoneinfo/Europe/London
X-LIC-LOCATION:Europe/London
BEGIN:DAYLIGHT
TZOFFSETFROM:+0000
TZOFFSETTO:+0100
TZNAME:BST
DTSTART:20150329T020000Z
RRULE:FREQ=YEARLY;BYMONTH=3;BYDAY=-1SU
END:DAYLIGHT
BEGIN:STANDARD
TZOFFSETFROM:+0100
TZOFFSETTO:+0000
TZNAME:GMT
DTSTART:20151025T020000Z
RRULE:FREQ=YEARLY;BYMONTH=10;BYDAY=-1SU
END:STANDARD
END:VTIMEZONE
BEGIN:VEVENT
SUMMARY:Law & Order: SVU 17x3 - Transgender Bridge
DTSTAMP:20150920T170945Z
SEQUENCE:0
UID:39922-2-841ebed20eb198c4569419e99b7bf40a@themidnightzone.com
ORGANIZER;CN="Midnight":midnight@themidnightzone.com
DESCRIPTION:15 year-old Avery Parker walks home from school through Fort
	Tryon Park when she's surrounded by a group of rowdy boys.Taunts and jokes
	 intensify to pushing and shoving\, leavingAvery in the hospital and three
	 assailants under arrest. Whenthe DA's office decides to try one of the cu
	lprits\, 15year-old Darius McCrae\, as an adult\, the SVU squad agonizesov
	er whether the punishment fits the crime\, and must deal withthe pain of b
	oth families involved.
DTSTART:20151001T020000Z
DTEND:20151001T030000Z
END:VEVENT
END:VCALENDAR
