BEGIN:VCALENDAR
VERSION:2.0
PRODID:-//InvisionCommunity Events 4.7.23//EN
METHOD:PUBLISH
CALSCALE:GREGORIAN
REFRESH-INTERVAL:PT15M
X-PUBLISHED-TTL:PT15M
X-WR-CALNAME:Pogdesign
NAME:Pogdesign
BEGIN:VTIMEZONE
TZID:Europe/London
TZURL:http://tzurl.org/zoneinfo/Europe/London
X-LIC-LOCATION:Europe/London
BEGIN:DAYLIGHT
TZOFFSETFROM:+0000
TZOFFSETTO:+0100
TZNAME:BST
DTSTART:20150329T020000Z
RRULE:FREQ=YEARLY;BYMONTH=3;BYDAY=-1SU
END:DAYLIGHT
BEGIN:STANDARD
TZOFFSETFROM:+0100
TZOFFSETTO:+0000
TZNAME:GMT
DTSTART:20151025T020000Z
RRULE:FREQ=YEARLY;BYMONTH=10;BYDAY=-1SU
END:STANDARD
END:VTIMEZONE
BEGIN:VEVENT
SUMMARY:Law & Order: SVU 17x4 - Institutional Fail
DTSTAMP:20150924T123108Z
SEQUENCE:0
UID:40186-3-841ebed20eb198c4569419e99b7bf40a@themidnightzone.com
ORGANIZER;CN="Midnight":midnight@themidnightzone.com
DESCRIPTION:A starving toddler found wandering the streets alone leadsde
	tectives to the home of Manuela Ozuna and another child ingrave condition.
	 The police question Department of ChildServices caseworker Keith Musio\, 
	whose vague and backdatedreports on the family suggest he hadn't checked o
	n the childrenin months. When the overworked Keith accuses his supervisor\
	,Janette Grayson\, of orchestrating the false reports\, ChiefDodds promise
	s to conduct an internal investigation. But whenneglect leads to death\, B
	arba takes matters into his own handsand arrests them for manslaughter. Me
	anwhile\, Dodds indicatessome changes coming to Benson's squad.
DTSTART:20151007T210000Z
DTEND:20151007T220000Z
END:VEVENT
END:VCALENDAR
