BEGIN:VCALENDAR
VERSION:2.0
PRODID:-//InvisionCommunity Events 4.7.23//EN
METHOD:PUBLISH
CALSCALE:GREGORIAN
REFRESH-INTERVAL:PT15M
X-PUBLISHED-TTL:PT15M
X-WR-CALNAME:Pogdesign
NAME:Pogdesign
BEGIN:VTIMEZONE
TZID:Europe/London
TZURL:http://tzurl.org/zoneinfo/Europe/London
X-LIC-LOCATION:Europe/London
BEGIN:DAYLIGHT
TZOFFSETFROM:+0000
TZOFFSETTO:+0100
TZNAME:BST
DTSTART:20150329T020000Z
RRULE:FREQ=YEARLY;BYMONTH=3;BYDAY=-1SU
END:DAYLIGHT
BEGIN:STANDARD
TZOFFSETFROM:+0100
TZOFFSETTO:+0000
TZNAME:GMT
DTSTART:20151025T020000Z
RRULE:FREQ=YEARLY;BYMONTH=10;BYDAY=-1SU
END:STANDARD
END:VTIMEZONE
BEGIN:VEVENT
SUMMARY:The Originals 3x1 - For The Next Millennium
DTSTAMP:20150928T003646Z
SEQUENCE:0
UID:40327-3-841ebed20eb198c4569419e99b7bf40a@themidnightzone.com
ORGANIZER;CN="Midnight":midnight@themidnightzone.com
DESCRIPTION:Months following their violent and deadly showdown with thep
	owerful witch Dahlia\, a rift continues to divide brothersKlaus and Elijah
	\, while Freya searches for a way to heal theirfractured bond and return t
	heir family to the way they oncewere. Meanwhile\, Klaus' suspicion piques 
	when he learns thatan old vampire friend named Lucien has arrived to New O
	rleanswith a mysterious agenda involving the Mikaelson's remainingsire lin
	es. Elsewhere\, Elijah questions whether he can trulyforgive his brother f
	or his mounting offenses\, while Hayleystruggles with being cursed to her 
	wolf form in the bayou. Inthe French Quarter\, Vincent and Cami assist Det
	ective Kinneyafter a series of gruesome discoveries are made\, leading the
	mto believe they may have a serial killer on the loose.Finally\, Marcel\, 
	who has regained control of the FrenchQuarter once again\, tries a new str
	ategy to recruit vampires\,while Davina\, who is now Regent to the New Orl
	eans witches\,makes a decision that will find her and Marcel on oppositesi
	des of an escalating conflict.
DTSTART:20151008T210000Z
DTEND:20151008T220000Z
END:VEVENT
END:VCALENDAR
