BEGIN:VCALENDAR
VERSION:2.0
PRODID:-//InvisionCommunity Events 4.7.23//EN
METHOD:PUBLISH
CALSCALE:GREGORIAN
REFRESH-INTERVAL:PT15M
X-PUBLISHED-TTL:PT15M
X-WR-CALNAME:Pogdesign
NAME:Pogdesign
BEGIN:VTIMEZONE
TZID:Europe/London
TZURL:http://tzurl.org/zoneinfo/Europe/London
X-LIC-LOCATION:Europe/London
BEGIN:DAYLIGHT
TZOFFSETFROM:+0000
TZOFFSETTO:+0100
TZNAME:BST
DTSTART:20150329T020000Z
RRULE:FREQ=YEARLY;BYMONTH=3;BYDAY=-1SU
END:DAYLIGHT
BEGIN:STANDARD
TZOFFSETFROM:+0100
TZOFFSETTO:+0000
TZNAME:GMT
DTSTART:20151025T020000Z
RRULE:FREQ=YEARLY;BYMONTH=10;BYDAY=-1SU
END:STANDARD
END:VTIMEZONE
BEGIN:VEVENT
SUMMARY:The Flash 2x2 - Flash of Two Worlds
DTSTAMP:20150930T113734Z
SEQUENCE:0
UID:40523-3-841ebed20eb198c4569419e99b7bf40a@themidnightzone.com
ORGANIZER;CN="Midnight":midnight@themidnightzone.com
DESCRIPTION:Jay Garrick\, a mysterious man from Earth-2\, appears atS.T.
	A.R. Labs with a dire warning about an evil speedster namedZoom\, who is s
	et on destroying The Flash. Barry and the teammust decide if they can trus
	t this stranger even as they faceyet another powerful meta-human. Meanwhil
	e\, Joe must deal witha determined officer named Patty Spivot who wants to
	 join hismeta-human task force.
DTSTART:20151013T200000Z
DTEND:20151013T210000Z
END:VEVENT
END:VCALENDAR
