BEGIN:VCALENDAR
VERSION:2.0
PRODID:-//InvisionCommunity Events 4.7.23//EN
METHOD:PUBLISH
CALSCALE:GREGORIAN
REFRESH-INTERVAL:PT15M
X-PUBLISHED-TTL:PT15M
X-WR-CALNAME:Pogdesign
NAME:Pogdesign
BEGIN:VTIMEZONE
TZID:Europe/London
TZURL:http://tzurl.org/zoneinfo/Europe/London
X-LIC-LOCATION:Europe/London
BEGIN:DAYLIGHT
TZOFFSETFROM:+0000
TZOFFSETTO:+0100
TZNAME:BST
DTSTART:20150329T020000Z
RRULE:FREQ=YEARLY;BYMONTH=3;BYDAY=-1SU
END:DAYLIGHT
BEGIN:STANDARD
TZOFFSETFROM:+0100
TZOFFSETTO:+0000
TZNAME:GMT
DTSTART:20151025T020000Z
RRULE:FREQ=YEARLY;BYMONTH=10;BYDAY=-1SU
END:STANDARD
END:VTIMEZONE
BEGIN:VEVENT
SUMMARY:Arrow 4x2 - The Candidate
DTSTAMP:20151001T185129Z
SEQUENCE:0
UID:40567-3-841ebed20eb198c4569419e99b7bf40a@themidnightzone.com
ORGANIZER;CN="Midnight":midnight@themidnightzone.com
DESCRIPTION:When an old family friend\, Jessica Danforth\, tells Oliver 
	andThea that she is going to run for mayor\, both Queens areconcerned cons
	idering the last three mayors have been murdered.Despite their protests\, 
	Jessica makes her announcement so theGreen Arrow and Speedy vow to protect
	 her. Meanwhile\, Theabegins to exhibit effects from the Lazarus Pit. In a
	ddition\,Felicity is faced with a tough business decision and looks toone 
	of her employees\, Curtis Holt\, for help.
DTSTART:20151014T200000Z
DTEND:20151014T210000Z
END:VEVENT
END:VCALENDAR
