BEGIN:VCALENDAR
VERSION:2.0
PRODID:-//InvisionCommunity Events 4.7.23//EN
METHOD:PUBLISH
CALSCALE:GREGORIAN
REFRESH-INTERVAL:PT15M
X-PUBLISHED-TTL:PT15M
X-WR-CALNAME:Pogdesign
NAME:Pogdesign
BEGIN:VTIMEZONE
TZID:Europe/London
TZURL:http://tzurl.org/zoneinfo/Europe/London
X-LIC-LOCATION:Europe/London
BEGIN:DAYLIGHT
TZOFFSETFROM:+0000
TZOFFSETTO:+0100
TZNAME:BST
DTSTART:20150329T020000Z
RRULE:FREQ=YEARLY;BYMONTH=3;BYDAY=-1SU
END:DAYLIGHT
BEGIN:STANDARD
TZOFFSETFROM:+0100
TZOFFSETTO:+0000
TZNAME:GMT
DTSTART:20151025T020000Z
RRULE:FREQ=YEARLY;BYMONTH=10;BYDAY=-1SU
END:STANDARD
END:VTIMEZONE
BEGIN:VEVENT
SUMMARY:Modern Family 7x4 - She Crazy
DTSTAMP:20151001T185130Z
SEQUENCE:0
UID:40585-3-841ebed20eb198c4569419e99b7bf40a@themidnightzone.com
ORGANIZER;CN="Midnight":midnight@themidnightzone.com
DESCRIPTION:Phil is all in on project hatch-the-duck-eggs\, even buildin
	g awhole habitat for them - no one else is as enthused about thisproject a
	nd Lily is the only one suckered into helping him.Claire\, meanwhile\, is 
	nervous about pitching her new closetideas to Jay and his creative team\, 
	and for good reason itseems. And\, Gloria and Manny help each other out wi
	th theirrespective &quot\;crushes&quot\;\, while Cameron develops anunheal
	thy attachment to the frat guys renting their upstairsunit.
DTSTART:20151014T210000Z
DTEND:20151014T213000Z
END:VEVENT
END:VCALENDAR
