BEGIN:VCALENDAR
VERSION:2.0
PRODID:-//InvisionCommunity Events 4.7.23//EN
METHOD:PUBLISH
CALSCALE:GREGORIAN
REFRESH-INTERVAL:PT15M
X-PUBLISHED-TTL:PT15M
X-WR-CALNAME:Pogdesign
NAME:Pogdesign
BEGIN:VTIMEZONE
TZID:Europe/London
TZURL:http://tzurl.org/zoneinfo/Europe/London
X-LIC-LOCATION:Europe/London
BEGIN:DAYLIGHT
TZOFFSETFROM:+0000
TZOFFSETTO:+0100
TZNAME:BST
DTSTART:20150329T020000Z
RRULE:FREQ=YEARLY;BYMONTH=3;BYDAY=-1SU
END:DAYLIGHT
BEGIN:STANDARD
TZOFFSETFROM:+0100
TZOFFSETTO:+0000
TZNAME:GMT
DTSTART:20151025T020000Z
RRULE:FREQ=YEARLY;BYMONTH=10;BYDAY=-1SU
END:STANDARD
END:VTIMEZONE
BEGIN:VEVENT
SUMMARY:Supernatural 11x2 - Form and Void
DTSTAMP:20151001T185130Z
SEQUENCE:0
UID:40597-3-841ebed20eb198c4569419e99b7bf40a@themidnightzone.com
ORGANIZER;CN="Midnight":midnight@themidnightzone.com
DESCRIPTION:Dean helps Jenna\, the nurse he met after the Darkness fell\
	,get back home safely and then sets off to help Sam deal with atown infect
	ed by a mysterious and deadly gas. However\, whenJenna falls into dangerou
	s hands\, she calls Dean for help andSam tells him to go back to her. Unfo
	rtunately for Sam\, heisn't able to handle the townspeople turned monsters
	 as easilyas he thought.
DTSTART:20151014T210000Z
DTEND:20151014T220000Z
END:VEVENT
END:VCALENDAR
