BEGIN:VCALENDAR
VERSION:2.0
PRODID:-//InvisionCommunity Events 4.7.23//EN
METHOD:PUBLISH
CALSCALE:GREGORIAN
REFRESH-INTERVAL:PT15M
X-PUBLISHED-TTL:PT15M
X-WR-CALNAME:Pogdesign
NAME:Pogdesign
BEGIN:VTIMEZONE
TZID:Europe/London
TZURL:http://tzurl.org/zoneinfo/Europe/London
X-LIC-LOCATION:Europe/London
BEGIN:DAYLIGHT
TZOFFSETFROM:+0000
TZOFFSETTO:+0100
TZNAME:BST
DTSTART:20150329T020000Z
RRULE:FREQ=YEARLY;BYMONTH=3;BYDAY=-1SU
END:DAYLIGHT
BEGIN:STANDARD
TZOFFSETFROM:+0100
TZOFFSETTO:+0000
TZNAME:GMT
DTSTART:20151025T020000Z
RRULE:FREQ=YEARLY;BYMONTH=10;BYDAY=-1SU
END:STANDARD
END:VTIMEZONE
BEGIN:VEVENT
SUMMARY:You\, Me and the Apocalypse 1x3 - Series 1\, Episode 3
DTSTAMP:20151001T185130Z
SEQUENCE:0
UID:40603-3-841ebed20eb198c4569419e99b7bf40a@themidnightzone.com
ORGANIZER;CN="Midnight":midnight@themidnightzone.com
DESCRIPTION:Fr Jude and Sr Celine try to help a young girl escape an ang
	rymob that believes she is the Messiah\, while Jamie's search forhis birth
	 mother grinds to a halt when he is again mistaken forAriel. Rhonda's brot
	her Scotty kickstarts the US government'sOperation Saviour\, while her and
	 Leanne's bid to rejoin theirfamilies is scuppered when she is arrested fo
	r stealingclothes.
DTSTART:20151014T160000Z
DTEND:20151014T164500Z
END:VEVENT
END:VCALENDAR
