BEGIN:VCALENDAR
VERSION:2.0
PRODID:-//InvisionCommunity Events 4.7.23//EN
METHOD:PUBLISH
CALSCALE:GREGORIAN
REFRESH-INTERVAL:PT15M
X-PUBLISHED-TTL:PT15M
X-WR-CALNAME:Pogdesign
NAME:Pogdesign
BEGIN:VTIMEZONE
TZID:Europe/London
TZURL:http://tzurl.org/zoneinfo/Europe/London
X-LIC-LOCATION:Europe/London
BEGIN:DAYLIGHT
TZOFFSETFROM:+0000
TZOFFSETTO:+0100
TZNAME:BST
DTSTART:20150329T020000Z
RRULE:FREQ=YEARLY;BYMONTH=3;BYDAY=-1SU
END:DAYLIGHT
BEGIN:STANDARD
TZOFFSETFROM:+0100
TZOFFSETTO:+0000
TZNAME:GMT
DTSTART:20151025T020000Z
RRULE:FREQ=YEARLY;BYMONTH=10;BYDAY=-1SU
END:STANDARD
END:VTIMEZONE
BEGIN:VEVENT
SUMMARY:The Originals 3x2 - You Hung the Moon
DTSTAMP:20151002T145131Z
SEQUENCE:0
UID:40725-3-841ebed20eb198c4569419e99b7bf40a@themidnightzone.com
ORGANIZER;CN="Midnight":midnight@themidnightzone.com
DESCRIPTION:After discovering that poachers have begun taking outwerewol
	ves in the bayou\, Elijah and Jackson grow concerned forHayley's safety wh
	en she fails to show up during the full moon.Meanwhile\, Davina\, the only
	 one with the answer to Hayley'swhereabouts\, plots ways to use that to he
	r advantage.Elsewhere\, Cami approaches Klaus with her theory on who isbeh
	ind the series of murders in the French Quarter\, whileLucien delivers to 
	Elijah an unsettling warning about the warbrewing among the sire lines. Fi
	nally\, after receiving a direprophecy about the future of the Mikaelson s
	iblings\, Klaustakes extreme measures to determine the validity of thispot
	ential impending threat.
DTSTART:20151015T210000Z
DTEND:20151015T220000Z
END:VEVENT
END:VCALENDAR
