BEGIN:VCALENDAR
VERSION:2.0
PRODID:-//InvisionCommunity Events 4.7.23//EN
METHOD:PUBLISH
CALSCALE:GREGORIAN
REFRESH-INTERVAL:PT15M
X-PUBLISHED-TTL:PT15M
X-WR-CALNAME:Pogdesign
NAME:Pogdesign
BEGIN:VTIMEZONE
TZID:Europe/London
TZURL:http://tzurl.org/zoneinfo/Europe/London
X-LIC-LOCATION:Europe/London
BEGIN:DAYLIGHT
TZOFFSETFROM:+0000
TZOFFSETTO:+0100
TZNAME:BST
DTSTART:20150329T020000Z
RRULE:FREQ=YEARLY;BYMONTH=3;BYDAY=-1SU
END:DAYLIGHT
BEGIN:STANDARD
TZOFFSETFROM:+0100
TZOFFSETTO:+0000
TZNAME:GMT
DTSTART:20151025T020000Z
RRULE:FREQ=YEARLY;BYMONTH=10;BYDAY=-1SU
END:STANDARD
END:VTIMEZONE
BEGIN:VEVENT
SUMMARY:Blood and Oil 1x4 - The Birthday Party
DTSTAMP:20151006T190055Z
SEQUENCE:0
UID:40896-3-841ebed20eb198c4569419e99b7bf40a@themidnightzone.com
ORGANIZER;CN="Midnight":midnight@themidnightzone.com
DESCRIPTION:Broke and still reeling from being conned by Hap\, Billy see
	ksrevenge and turns to an unlikely ally\, Clifton Lundegren\,hoping to app
	eal to his mutual disgust towards the Briggs'.Wick defiantly ignores Hap's
	 wishes and continues to see Juleseven enlisting Carla's help in throwing 
	her a huge birthdayparty at the house. And\, things come to a head with La
	cey andAJ leading to a confrontation that will force AJ to make a gamechan
	ging decision.
DTSTART:20151018T210000Z
DTEND:20151018T220000Z
END:VEVENT
END:VCALENDAR
