BEGIN:VCALENDAR
VERSION:2.0
PRODID:-//InvisionCommunity Events 4.7.23//EN
METHOD:PUBLISH
CALSCALE:GREGORIAN
REFRESH-INTERVAL:PT15M
X-PUBLISHED-TTL:PT15M
X-WR-CALNAME:Pogdesign
NAME:Pogdesign
BEGIN:VTIMEZONE
TZID:Europe/London
TZURL:http://tzurl.org/zoneinfo/Europe/London
X-LIC-LOCATION:Europe/London
BEGIN:DAYLIGHT
TZOFFSETFROM:+0000
TZOFFSETTO:+0100
TZNAME:BST
DTSTART:20150329T020000Z
RRULE:FREQ=YEARLY;BYMONTH=3;BYDAY=-1SU
END:DAYLIGHT
BEGIN:STANDARD
TZOFFSETFROM:+0100
TZOFFSETTO:+0000
TZNAME:GMT
DTSTART:20151025T020000Z
RRULE:FREQ=YEARLY;BYMONTH=10;BYDAY=-1SU
END:STANDARD
END:VTIMEZONE
BEGIN:VEVENT
SUMMARY:Downton Abbey 6x5 - Series 6\, Episode 5
DTSTAMP:20151006T190056Z
SEQUENCE:0
UID:40907-3-841ebed20eb198c4569419e99b7bf40a@themidnightzone.com
ORGANIZER;CN="Midnight":midnight@themidnightzone.com
DESCRIPTION:Neville Chamberlain visits Downton for dinner\, and is drawn
	into Violet's plan to save the hospital\, with distressingconsequences for
	 everyone. Andy finds an unexpected confidantewhile helping Mr Mason move 
	into Yew Tree Farm\, Mary isuncertain if she has met her match\, Edith mee
	ts Bertie Pelhamin London\, and Spratt comes to Denker's aid. Mrs Hughesst
	ruggles to keep Carson happy\, while Mary thinks secrets arebeing kept fro
	m her.
DTSTART:20151018T160000Z
DTEND:20151018T173000Z
END:VEVENT
END:VCALENDAR
