BEGIN:VCALENDAR
VERSION:2.0
PRODID:-//InvisionCommunity Events 4.7.23//EN
METHOD:PUBLISH
CALSCALE:GREGORIAN
REFRESH-INTERVAL:PT15M
X-PUBLISHED-TTL:PT15M
X-WR-CALNAME:Pogdesign
NAME:Pogdesign
BEGIN:VTIMEZONE
TZID:Europe/London
TZURL:http://tzurl.org/zoneinfo/Europe/London
X-LIC-LOCATION:Europe/London
BEGIN:DAYLIGHT
TZOFFSETFROM:+0000
TZOFFSETTO:+0100
TZNAME:BST
DTSTART:20150329T020000Z
RRULE:FREQ=YEARLY;BYMONTH=3;BYDAY=-1SU
END:DAYLIGHT
BEGIN:STANDARD
TZOFFSETFROM:+0100
TZOFFSETTO:+0000
TZNAME:GMT
DTSTART:20151025T020000Z
RRULE:FREQ=YEARLY;BYMONTH=10;BYDAY=-1SU
END:STANDARD
END:VTIMEZONE
BEGIN:VEVENT
SUMMARY:The Simpsons 27x4 - Halloween of Horror
DTSTAMP:20151006T190056Z
SEQUENCE:0
UID:40942-3-841ebed20eb198c4569419e99b7bf40a@themidnightzone.com
ORGANIZER;CN="Midnight":midnight@themidnightzone.com
DESCRIPTION:When Lisa becomes scared at the Krustyland Halloween HorrorN
	ight\, Homer is forced to take down his Everscream Terrorsdecorations. Hal
	loween pop-up employees seek vengeance on Homerfor causing them to lose th
	eir jobs\, and rob his house whileHomer and Lisa hide out in the attic. Ho
	mer and Lisa light uptheir stored holiday decorations to attract attention
	 and standup to the intruders.
DTSTART:20151018T200000Z
DTEND:20151018T203000Z
END:VEVENT
END:VCALENDAR
